BEGIN:VCALENDAR
VERSION:2.0
PRODID:-//Paul-Klee-Schule – Montessorischule im Aufbau - ECPv6.15.20//NONSGML v1.0//EN
CALSCALE:GREGORIAN
METHOD:PUBLISH
X-WR-CALNAME:Paul-Klee-Schule – Montessorischule im Aufbau
X-ORIGINAL-URL:https://montessori-godesberg.de
X-WR-CALDESC:Veranstaltungen für Paul-Klee-Schule – Montessorischule im Aufbau
REFRESH-INTERVAL;VALUE=DURATION:PT1H
X-Robots-Tag:noindex
X-PUBLISHED-TTL:PT1H
BEGIN:VTIMEZONE
TZID:UTC
BEGIN:STANDARD
TZOFFSETFROM:+0000
TZOFFSETTO:+0000
TZNAME:UTC
DTSTART:20210101T000000
END:STANDARD
END:VTIMEZONE
BEGIN:VEVENT
DTSTART;VALUE=DATE:20220328
DTEND;VALUE=DATE:20220329
DTSTAMP:20260423T181325
CREATED:20220226T064253Z
LAST-MODIFIED:20220302T144825Z
UID:3821-1648425600-1648511999@montessori-godesberg.de
SUMMARY:Sportmotorische Testung 2. Schuljahr
DESCRIPTION:(bitte Sportzeug mitbringen!)
URL:https://montessori-godesberg.de/termin/sportmotorische-testung/
END:VEVENT
BEGIN:VEVENT
DTSTART;TZID=UTC:20220328T163000
DTEND;TZID=UTC:20220328T163000
DTSTAMP:20260423T181325
CREATED:20220226T064334Z
LAST-MODIFIED:20220302T155750Z
UID:3823-1648485000-1648485000@montessori-godesberg.de
SUMMARY:Informationsabend zum Fahrradtraining (3./4. Sj) für Eltern
DESCRIPTION:mit Frau Schreiner von der Polizei
URL:https://montessori-godesberg.de/termin/informationsabend-zum-fahrradtraining-fuer-eltern/
END:VEVENT
END:VCALENDAR