BEGIN:VCALENDAR
VERSION:2.0
PRODID:-//Paul-Klee-Schule – Montessorischule im Aufbau - ECPv6.15.20//NONSGML v1.0//EN
CALSCALE:GREGORIAN
METHOD:PUBLISH
X-ORIGINAL-URL:https://montessori-godesberg.de
X-WR-CALDESC:Veranstaltungen für Paul-Klee-Schule – Montessorischule im Aufbau
REFRESH-INTERVAL;VALUE=DURATION:PT1H
X-Robots-Tag:noindex
X-PUBLISHED-TTL:PT1H
BEGIN:VTIMEZONE
TZID:Europe/Berlin
BEGIN:DAYLIGHT
TZOFFSETFROM:+0100
TZOFFSETTO:+0200
TZNAME:CEST
DTSTART:20210328T010000
END:DAYLIGHT
BEGIN:STANDARD
TZOFFSETFROM:+0200
TZOFFSETTO:+0100
TZNAME:CET
DTSTART:20211031T010000
END:STANDARD
BEGIN:DAYLIGHT
TZOFFSETFROM:+0100
TZOFFSETTO:+0200
TZNAME:CEST
DTSTART:20220327T010000
END:DAYLIGHT
BEGIN:STANDARD
TZOFFSETFROM:+0200
TZOFFSETTO:+0100
TZNAME:CET
DTSTART:20221030T010000
END:STANDARD
BEGIN:DAYLIGHT
TZOFFSETFROM:+0100
TZOFFSETTO:+0200
TZNAME:CEST
DTSTART:20230326T010000
END:DAYLIGHT
BEGIN:STANDARD
TZOFFSETFROM:+0200
TZOFFSETTO:+0100
TZNAME:CET
DTSTART:20231029T010000
END:STANDARD
END:VTIMEZONE
BEGIN:VTIMEZONE
TZID:UTC
BEGIN:STANDARD
TZOFFSETFROM:+0000
TZOFFSETTO:+0000
TZNAME:UTC
DTSTART:20210101T000000
END:STANDARD
END:VTIMEZONE
BEGIN:VEVENT
DTSTART;TZID=Europe/Berlin:20220603T090000
DTEND;TZID=Europe/Berlin:20220603T094500
DTSTAMP:20260423T131415
CREATED:20220519T190055Z
LAST-MODIFIED:20220519T190405Z
UID:4122-1654246800-1654249500@montessori-godesberg.de
SUMMARY:Schnuppertag
DESCRIPTION:Die zukünftigen ErstklässlerInnen und Eltern sind herzlich eingeladen etwas „Schulluft“ zu schnuppern und die Schule ein wenig kennen zu lernen. Ein postalische Einladung mit genaueren Infos erfolgt in den nächsten Tagen.
URL:https://montessori-godesberg.de/termin/schnuppertag-zukuenftige-erstklaessler/
CATEGORIES:Termine
END:VEVENT
BEGIN:VEVENT
DTSTART;TZID=Europe/Berlin:20220603T140000
DTEND;TZID=Europe/Berlin:20220603T163000
DTSTAMP:20260423T131415
CREATED:20220513T184843Z
LAST-MODIFIED:20220515T163751Z
UID:4102-1654264800-1654273800@montessori-godesberg.de
SUMMARY:Lesenachmittag
DESCRIPTION:
URL:https://montessori-godesberg.de/termin/lesenachmittag/
CATEGORIES:Feste
END:VEVENT
BEGIN:VEVENT
DTSTART;VALUE=DATE:20220606
DTEND;VALUE=DATE:20220607
DTSTAMP:20260423T131415
CREATED:20220226T065145Z
LAST-MODIFIED:20220514T054422Z
UID:3845-1654473600-1654559999@montessori-godesberg.de
SUMMARY:Pfingstmontag (Feiertag)
DESCRIPTION:
URL:https://montessori-godesberg.de/termin/pfingstmontag-feiertag/
CATEGORIES:Ferien
END:VEVENT
BEGIN:VEVENT
DTSTART;VALUE=DATE:20220613
DTEND;VALUE=DATE:20220616
DTSTAMP:20260423T131415
CREATED:20220226T065247Z
LAST-MODIFIED:20220515T163742Z
UID:3847-1655078400-1655337599@montessori-godesberg.de
SUMMARY:Projektwoche zum Thema „Fußball-Weltmeisterschaft“
DESCRIPTION:
URL:https://montessori-godesberg.de/termin/projektwoche-zum-thema-fussball-weltmeisterschaft/
CATEGORIES:Termine
END:VEVENT
BEGIN:VEVENT
DTSTART;VALUE=DATE:20220616
DTEND;VALUE=DATE:20220617
DTSTAMP:20260423T131415
CREATED:20220226T065312Z
LAST-MODIFIED:20220514T054422Z
UID:3849-1655337600-1655423999@montessori-godesberg.de
SUMMARY:Fronleichnam (Feiertag)
DESCRIPTION:
URL:https://montessori-godesberg.de/termin/fronleichnam-feiertag/
CATEGORIES:Ferien
END:VEVENT
BEGIN:VEVENT
DTSTART;VALUE=DATE:20220617
DTEND;VALUE=DATE:20220618
DTSTAMP:20260423T131415
CREATED:20220226T065339Z
LAST-MODIFIED:20220515T164149Z
UID:3851-1655424000-1655510399@montessori-godesberg.de
SUMMARY:Sportfest + Sponsorenlauf
DESCRIPTION:
URL:https://montessori-godesberg.de/termin/sportfest-sponsorenlauf/
CATEGORIES:Termine
END:VEVENT
BEGIN:VEVENT
DTSTART;TZID=Europe/Berlin:20220623T090000
DTEND;TZID=Europe/Berlin:20220623T100000
DTSTAMP:20260423T131415
CREATED:20220512T191615Z
LAST-MODIFIED:20220515T164139Z
UID:4077-1655974800-1655978400@montessori-godesberg.de
SUMMARY:ökumenischer Abschlussgottesdienst
DESCRIPTION:
URL:https://montessori-godesberg.de/termin/oekomenischer-abschlussgottesdienst/
CATEGORIES:Termine
END:VEVENT
BEGIN:VEVENT
DTSTART;VALUE=DATE:20220624
DTEND;VALUE=DATE:20220625
DTSTAMP:20260423T131415
CREATED:20220226T065404Z
LAST-MODIFIED:20220515T163717Z
UID:3853-1656028800-1656115199@montessori-godesberg.de
SUMMARY:Ende 2. Schulhalbjahr und Zeugnisausgabe
DESCRIPTION:
URL:https://montessori-godesberg.de/termin/ende-2-schulhalbjahr-und-zeugnisausgabe/
CATEGORIES:Termine
END:VEVENT
BEGIN:VEVENT
DTSTART;VALUE=DATE:20220627
DTEND;VALUE=DATE:20220810
DTSTAMP:20260423T131415
CREATED:20220226T065435Z
LAST-MODIFIED:20220514T054421Z
UID:3855-1656288000-1660089599@montessori-godesberg.de
SUMMARY:Sommerferien
DESCRIPTION:
URL:https://montessori-godesberg.de/termin/sommerferien/
CATEGORIES:Ferien
END:VEVENT
END:VCALENDAR