BEGIN:VCALENDAR
VERSION:2.0
PRODID:-//Paul-Klee-Schule – Montessorischule im Aufbau - ECPv6.15.20//NONSGML v1.0//EN
CALSCALE:GREGORIAN
METHOD:PUBLISH
X-ORIGINAL-URL:https://montessori-godesberg.de
X-WR-CALDESC:Veranstaltungen für Paul-Klee-Schule – Montessorischule im Aufbau
REFRESH-INTERVAL;VALUE=DURATION:PT1H
X-Robots-Tag:noindex
X-PUBLISHED-TTL:PT1H
BEGIN:VTIMEZONE
TZID:UTC
BEGIN:STANDARD
TZOFFSETFROM:+0000
TZOFFSETTO:+0000
TZNAME:UTC
DTSTART:20210101T000000
END:STANDARD
END:VTIMEZONE
BEGIN:VTIMEZONE
TZID:Europe/Berlin
BEGIN:DAYLIGHT
TZOFFSETFROM:+0100
TZOFFSETTO:+0200
TZNAME:CEST
DTSTART:20210328T010000
END:DAYLIGHT
BEGIN:STANDARD
TZOFFSETFROM:+0200
TZOFFSETTO:+0100
TZNAME:CET
DTSTART:20211031T010000
END:STANDARD
BEGIN:DAYLIGHT
TZOFFSETFROM:+0100
TZOFFSETTO:+0200
TZNAME:CEST
DTSTART:20220327T010000
END:DAYLIGHT
BEGIN:STANDARD
TZOFFSETFROM:+0200
TZOFFSETTO:+0100
TZNAME:CET
DTSTART:20221030T010000
END:STANDARD
BEGIN:DAYLIGHT
TZOFFSETFROM:+0100
TZOFFSETTO:+0200
TZNAME:CEST
DTSTART:20230326T010000
END:DAYLIGHT
BEGIN:STANDARD
TZOFFSETFROM:+0200
TZOFFSETTO:+0100
TZNAME:CET
DTSTART:20231029T010000
END:STANDARD
END:VTIMEZONE
BEGIN:VEVENT
DTSTART;VALUE=DATE:20220627
DTEND;VALUE=DATE:20220810
DTSTAMP:20260423T090238
CREATED:20220226T065435Z
LAST-MODIFIED:20220514T054421Z
UID:3855-1656288000-1660089599@montessori-godesberg.de
SUMMARY:Sommerferien
DESCRIPTION:
URL:https://montessori-godesberg.de/termin/sommerferien/
CATEGORIES:Ferien
END:VEVENT
BEGIN:VEVENT
DTSTART;TZID=Europe/Berlin:20220809T150000
DTEND;TZID=Europe/Berlin:20220809T160000
DTSTAMP:20260423T090238
CREATED:20220718T143351Z
LAST-MODIFIED:20220718T143817Z
UID:4303-1660057200-1660060800@montessori-godesberg.de
SUMMARY:Elterncafé
DESCRIPTION:Eltern geben unseren „Erstis“- Eltern Antworten
URL:https://montessori-godesberg.de/termin/elterncafe/
LOCATION:OGS Mensa
CATEGORIES:Termine
END:VEVENT
BEGIN:VEVENT
DTSTART;TZID=Europe/Berlin:20220810T081500
DTEND;TZID=Europe/Berlin:20220810T114500
DTSTAMP:20260423T090238
CREATED:20220626T074230Z
LAST-MODIFIED:20220626T074230Z
UID:4242-1660119300-1660131900@montessori-godesberg.de
SUMMARY:Unterrichtsbeginn
DESCRIPTION:
URL:https://montessori-godesberg.de/termin/unterrichtsbeginn/
CATEGORIES:Termine
END:VEVENT
BEGIN:VEVENT
DTSTART;TZID=Europe/Berlin:20220811T090000
DTEND;TZID=Europe/Berlin:20220811T113000
DTSTAMP:20260423T090238
CREATED:20220626T074536Z
LAST-MODIFIED:20220626T075650Z
UID:4244-1660208400-1660217400@montessori-godesberg.de
SUMMARY:Einschulungsfeier
DESCRIPTION:9:00 Uhr Gottesdienst in der Erlöserkirche und 10:15 Uhr Einschulungsfeier auf dem Schulhof
URL:https://montessori-godesberg.de/termin/einschulung-neuer-erstklaesslerinnen/
CATEGORIES:Feste
END:VEVENT
BEGIN:VEVENT
DTSTART;TZID=Europe/Berlin:20220812T081500
DTEND;TZID=Europe/Berlin:20220812T114500
DTSTAMP:20260423T090238
CREATED:20220626T075331Z
LAST-MODIFIED:20220626T075439Z
UID:4251-1660292100-1660304700@montessori-godesberg.de
SUMMARY:Unterricht
DESCRIPTION:
URL:https://montessori-godesberg.de/termin/unterricht/
CATEGORIES:Termine
END:VEVENT
BEGIN:VEVENT
DTSTART;TZID=Europe/Berlin:20220815T080000
DTEND;TZID=Europe/Berlin:20220819T120000
DTSTAMP:20260423T090238
CREATED:20220816T145923Z
LAST-MODIFIED:20220816T160353Z
UID:4319-1660550400-1660910400@montessori-godesberg.de
SUMMARY:Diagnostik der Erstklässler
DESCRIPTION:besondere Beobachtung der Erstklässler in der Freiarbeit
URL:https://montessori-godesberg.de/termin/diagnostik-der-erstklaessler/
CATEGORIES:Termine
END:VEVENT
BEGIN:VEVENT
DTSTART;TZID=Europe/Berlin:20220822T080000
DTEND;TZID=Europe/Berlin:20220822T120000
DTSTAMP:20260423T090238
CREATED:20220821T172047Z
LAST-MODIFIED:20220821T172047Z
UID:4426-1661155200-1661169600@montessori-godesberg.de
SUMMARY:Bordsteintraining für die Erstklässler
DESCRIPTION:mit der Schulpolizistin Frau Schreiner
URL:https://montessori-godesberg.de/termin/bordsteintraining-fuer-die-erstklaessler/
CATEGORIES:Termine
END:VEVENT
BEGIN:VEVENT
DTSTART;TZID=Europe/Berlin:20220822T080000
DTEND;TZID=Europe/Berlin:20220826T170000
DTSTAMP:20260423T090238
CREATED:20220816T160531Z
LAST-MODIFIED:20220816T160531Z
UID:4395-1661155200-1661533200@montessori-godesberg.de
SUMMARY:Diagnostik der Erstklässler
DESCRIPTION:besondere Beobachtung der Erstklässler in der Freiarbeit
URL:https://montessori-godesberg.de/termin/diagnostik-der-erstklaessler-2/
CATEGORIES:Termine
END:VEVENT
BEGIN:VEVENT
DTSTART;TZID=Europe/Berlin:20220823T080000
DTEND;TZID=Europe/Berlin:20220823T120000
DTSTAMP:20260423T090238
CREATED:20220821T172142Z
LAST-MODIFIED:20220821T172142Z
UID:4428-1661241600-1661256000@montessori-godesberg.de
SUMMARY:Bordsteintraining für die Erstklässler
DESCRIPTION:mit der Schulpolizistin Frau Schreiner
URL:https://montessori-godesberg.de/termin/bordsteintraining-fuer-die-erstklaessler-2/
CATEGORIES:Termine
END:VEVENT
BEGIN:VEVENT
DTSTART;TZID=Europe/Berlin:20220825T190000
DTEND;TZID=Europe/Berlin:20220825T210000
DTSTAMP:20260423T090238
CREATED:20220824T060305Z
LAST-MODIFIED:20220824T060305Z
UID:4445-1661454000-1661461200@montessori-godesberg.de
SUMMARY:Klassenpflegschaftssitzung Klasse F
DESCRIPTION:
URL:https://montessori-godesberg.de/termin/klassenpflegschaftssitzung-klasse-f/
CATEGORIES:Termine
END:VEVENT
BEGIN:VEVENT
DTSTART;TZID=Europe/Berlin:20220829T080000
DTEND;TZID=Europe/Berlin:20220831T170000
DTSTAMP:20260423T090238
CREATED:20220816T160615Z
LAST-MODIFIED:20220816T160615Z
UID:4397-1661760000-1661965200@montessori-godesberg.de
SUMMARY:Diagnostik der Erstklässler
DESCRIPTION:besondere Beoabachtung der Erstklässler in der Freiarbeit
URL:https://montessori-godesberg.de/termin/diagnostik-der-erstklaessler-3/
CATEGORIES:Termine
END:VEVENT
BEGIN:VEVENT
DTSTART;TZID=Europe/Berlin:20220829T190000
DTEND;TZID=Europe/Berlin:20220829T200000
DTSTAMP:20260423T090238
CREATED:20220816T150230Z
LAST-MODIFIED:20220816T150230Z
UID:4323-1661799600-1661803200@montessori-godesberg.de
SUMMARY:Beirat Förderverein mit Vorsitz der Schulpflegschaft
DESCRIPTION:
URL:https://montessori-godesberg.de/termin/beirat-foerderverein-mit-vorsitz-der-schulpflegschaft/
CATEGORIES:Termine
END:VEVENT
BEGIN:VEVENT
DTSTART;TZID=Europe/Berlin:20220829T190000
DTEND;TZID=Europe/Berlin:20220829T210000
DTSTAMP:20260423T090238
CREATED:20220824T060345Z
LAST-MODIFIED:20220824T060345Z
UID:4447-1661799600-1661806800@montessori-godesberg.de
SUMMARY:Klassenpflegschaftssitzung Klassen E
DESCRIPTION:
URL:https://montessori-godesberg.de/termin/klassenpflegschaftssitzung-klassen-e/
CATEGORIES:Termine
END:VEVENT
BEGIN:VEVENT
DTSTART;TZID=Europe/Berlin:20220830T190000
DTEND;TZID=Europe/Berlin:20220830T210000
DTSTAMP:20260423T090238
CREATED:20220824T060225Z
LAST-MODIFIED:20220824T060225Z
UID:4443-1661886000-1661893200@montessori-godesberg.de
SUMMARY:Klassenpflegschaftssitzung Klassen C/D
DESCRIPTION:
URL:https://montessori-godesberg.de/termin/klassenpflegschaftssitzung-klassen-c-d/
CATEGORIES:Termine
END:VEVENT
BEGIN:VEVENT
DTSTART;TZID=Europe/Berlin:20220831T080000
DTEND;TZID=Europe/Berlin:20220831T133000
DTSTAMP:20260423T090238
CREATED:20220816T150559Z
LAST-MODIFIED:20220816T155627Z
UID:4325-1661932800-1661952600@montessori-godesberg.de
SUMMARY:VERA Klasse 4 Lesen
DESCRIPTION:
URL:https://montessori-godesberg.de/termin/vera-klasse-4-lesen/
CATEGORIES:Termine
END:VEVENT
BEGIN:VEVENT
DTSTART;TZID=Europe/Berlin:20220831T190000
DTEND;TZID=Europe/Berlin:20220831T210000
DTSTAMP:20260423T090238
CREATED:20220824T060418Z
LAST-MODIFIED:20220824T060418Z
UID:4449-1661972400-1661979600@montessori-godesberg.de
SUMMARY:Klassenpflegschaftssitzung Klassen G/H
DESCRIPTION:
URL:https://montessori-godesberg.de/termin/klassenpflegschaftssitzung-klassen-g-h/
CATEGORIES:Termine
END:VEVENT
END:VCALENDAR