BEGIN:VCALENDAR
VERSION:2.0
PRODID:-//Paul-Klee-Schule – Montessorischule im Aufbau - ECPv6.15.20//NONSGML v1.0//EN
CALSCALE:GREGORIAN
METHOD:PUBLISH
X-WR-CALNAME:Paul-Klee-Schule – Montessorischule im Aufbau
X-ORIGINAL-URL:https://montessori-godesberg.de
X-WR-CALDESC:Veranstaltungen für Paul-Klee-Schule – Montessorischule im Aufbau
REFRESH-INTERVAL;VALUE=DURATION:PT1H
X-Robots-Tag:noindex
X-PUBLISHED-TTL:PT1H
BEGIN:VTIMEZONE
TZID:Europe/Berlin
BEGIN:DAYLIGHT
TZOFFSETFROM:+0100
TZOFFSETTO:+0200
TZNAME:CEST
DTSTART:20210328T010000
END:DAYLIGHT
BEGIN:STANDARD
TZOFFSETFROM:+0200
TZOFFSETTO:+0100
TZNAME:CET
DTSTART:20211031T010000
END:STANDARD
BEGIN:DAYLIGHT
TZOFFSETFROM:+0100
TZOFFSETTO:+0200
TZNAME:CEST
DTSTART:20220327T010000
END:DAYLIGHT
BEGIN:STANDARD
TZOFFSETFROM:+0200
TZOFFSETTO:+0100
TZNAME:CET
DTSTART:20221030T010000
END:STANDARD
BEGIN:DAYLIGHT
TZOFFSETFROM:+0100
TZOFFSETTO:+0200
TZNAME:CEST
DTSTART:20230326T010000
END:DAYLIGHT
BEGIN:STANDARD
TZOFFSETFROM:+0200
TZOFFSETTO:+0100
TZNAME:CET
DTSTART:20231029T010000
END:STANDARD
END:VTIMEZONE
BEGIN:VEVENT
DTSTART;TZID=Europe/Berlin:20220901T190000
DTEND;TZID=Europe/Berlin:20220901T210000
DTSTAMP:20260423T073015
CREATED:20220824T060131Z
LAST-MODIFIED:20220824T060131Z
UID:4441-1662058800-1662066000@montessori-godesberg.de
SUMMARY:Klassenpflegschaftssitzung Klassen A/B
DESCRIPTION:
URL:https://montessori-godesberg.de/termin/klassenpflegschaftssitzung-klassen-a-b/
CATEGORIES:Termine
END:VEVENT
BEGIN:VEVENT
DTSTART;TZID=Europe/Berlin:20220902T080000
DTEND;TZID=Europe/Berlin:20220902T120000
DTSTAMP:20260423T073015
CREATED:20220821T172320Z
LAST-MODIFIED:20220821T172320Z
UID:4430-1662105600-1662120000@montessori-godesberg.de
SUMMARY:Schulfotograf
DESCRIPTION:Klassenfotos und Porträts
URL:https://montessori-godesberg.de/termin/schulfotograf/
CATEGORIES:Termine
END:VEVENT
BEGIN:VEVENT
DTSTART;TZID=Europe/Berlin:20220905T080000
DTEND;TZID=Europe/Berlin:20220905T133000
DTSTAMP:20260423T073015
CREATED:20220816T150736Z
LAST-MODIFIED:20220816T155435Z
UID:4327-1662364800-1662384600@montessori-godesberg.de
SUMMARY:VERA Klasse 4 Mathematik
DESCRIPTION:
URL:https://montessori-godesberg.de/termin/vera-klasse-4-mathematik/
CATEGORIES:Termine
END:VEVENT
BEGIN:VEVENT
DTSTART;TZID=Europe/Berlin:20220906T190000
DTEND;TZID=Europe/Berlin:20220906T200000
DTSTAMP:20260423T073015
CREATED:20220816T151008Z
LAST-MODIFIED:20220816T151008Z
UID:4333-1662490800-1662494400@montessori-godesberg.de
SUMMARY:OGS-Rat
DESCRIPTION:
URL:https://montessori-godesberg.de/termin/ogs-rat-2/
CATEGORIES:Termine
END:VEVENT
BEGIN:VEVENT
DTSTART;TZID=Europe/Berlin:20220907T080000
DTEND;TZID=Europe/Berlin:20220907T133000
DTSTAMP:20260423T073015
CREATED:20220816T150817Z
LAST-MODIFIED:20220816T155531Z
UID:4330-1662537600-1662557400@montessori-godesberg.de
SUMMARY:VERA Klasse 4 Zuhören
DESCRIPTION:
URL:https://montessori-godesberg.de/termin/ogs-rat/
CATEGORIES:Termine
END:VEVENT
BEGIN:VEVENT
DTSTART;TZID=Europe/Berlin:20220913T190000
DTEND;TZID=Europe/Berlin:20220913T200000
DTSTAMP:20260423T073015
CREATED:20220816T151228Z
LAST-MODIFIED:20220826T045957Z
UID:4337-1663095600-1663099200@montessori-godesberg.de
SUMMARY:Schulpflegschaftssitzung
DESCRIPTION:
URL:https://montessori-godesberg.de/termin/schulpflegschaftssitzung/
CATEGORIES:Termine
END:VEVENT
BEGIN:VEVENT
DTSTART;TZID=Europe/Berlin:20220914T200000
DTEND;TZID=Europe/Berlin:20220914T210000
DTSTAMP:20260423T073015
CREATED:20220816T151135Z
LAST-MODIFIED:20220824T055813Z
UID:4335-1663185600-1663189200@montessori-godesberg.de
SUMMARY:Montessori-Theorie-Abend in der Montessorischule Dottendorf
DESCRIPTION:Pädagogische Reihe für Eltern zum Thema Montessoripädagogik\, gemeinsame Veranstaltung der Montessorischulen in Bonn \nFolgetermin am 31.1.23
URL:https://montessori-godesberg.de/termin/theorie-abend-fuer-eltern-in-der-muensterschule/
CATEGORIES:Termine
END:VEVENT
END:VCALENDAR