BEGIN:VCALENDAR
VERSION:2.0
PRODID:-//Paul-Klee-Schule – Montessorischule im Aufbau - ECPv6.15.20//NONSGML v1.0//EN
CALSCALE:GREGORIAN
METHOD:PUBLISH
X-ORIGINAL-URL:https://montessori-godesberg.de
X-WR-CALDESC:Veranstaltungen für Paul-Klee-Schule – Montessorischule im Aufbau
REFRESH-INTERVAL;VALUE=DURATION:PT1H
X-Robots-Tag:noindex
X-PUBLISHED-TTL:PT1H
BEGIN:VTIMEZONE
TZID:Europe/Berlin
BEGIN:DAYLIGHT
TZOFFSETFROM:+0100
TZOFFSETTO:+0200
TZNAME:CEST
DTSTART:20210328T010000
END:DAYLIGHT
BEGIN:STANDARD
TZOFFSETFROM:+0200
TZOFFSETTO:+0100
TZNAME:CET
DTSTART:20211031T010000
END:STANDARD
BEGIN:DAYLIGHT
TZOFFSETFROM:+0100
TZOFFSETTO:+0200
TZNAME:CEST
DTSTART:20220327T010000
END:DAYLIGHT
BEGIN:STANDARD
TZOFFSETFROM:+0200
TZOFFSETTO:+0100
TZNAME:CET
DTSTART:20221030T010000
END:STANDARD
BEGIN:DAYLIGHT
TZOFFSETFROM:+0100
TZOFFSETTO:+0200
TZNAME:CEST
DTSTART:20230326T010000
END:DAYLIGHT
BEGIN:STANDARD
TZOFFSETFROM:+0200
TZOFFSETTO:+0100
TZNAME:CET
DTSTART:20231029T010000
END:STANDARD
END:VTIMEZONE
BEGIN:VEVENT
DTSTART;VALUE=DATE:20221003
DTEND;VALUE=DATE:20221015
DTSTAMP:20260423T055619
CREATED:20220626T080547Z
LAST-MODIFIED:20220626T082815Z
UID:4258-1664755200-1665791999@montessori-godesberg.de
SUMMARY:Herbstferien
DESCRIPTION:
URL:https://montessori-godesberg.de/termin/herbstferien/
CATEGORIES:Ferien
END:VEVENT
BEGIN:VEVENT
DTSTART;VALUE=DATE:20221017
DTEND;VALUE=DATE:20221022
DTSTAMP:20260423T055619
CREATED:20220816T151402Z
LAST-MODIFIED:20220816T151938Z
UID:4339-1665964800-1666396799@montessori-godesberg.de
SUMMARY:Projektwoche
DESCRIPTION:Projektwoche und Konzert zum Thema „Wenn ich eine Wolke  wäre“ mit vertonten Kindergedichten der Lyrikerin Mascha Kaléko
URL:https://montessori-godesberg.de/termin/herbstferien-2/
CATEGORIES:Termine
END:VEVENT
BEGIN:VEVENT
DTSTART;TZID=Europe/Berlin:20221018T190000
DTEND;TZID=Europe/Berlin:20221018T200000
DTSTAMP:20260423T055619
CREATED:20220718T143651Z
LAST-MODIFIED:20220718T143651Z
UID:4307-1666119600-1666123200@montessori-godesberg.de
SUMMARY:OGS Elternabend
DESCRIPTION:
URL:https://montessori-godesberg.de/termin/ogs-elternabend/
CATEGORIES:Termine
END:VEVENT
BEGIN:VEVENT
DTSTART;TZID=Europe/Berlin:20221020T190000
DTEND;TZID=Europe/Berlin:20221020T210000
DTSTAMP:20260423T055619
CREATED:20220816T151641Z
LAST-MODIFIED:20220816T151828Z
UID:4342-1666292400-1666299600@montessori-godesberg.de
SUMMARY:Informationsabend zu Montessori-Material
DESCRIPTION:für Eltern der GGS Paul-Klee zu Montessori-Material in den Räumlichkeiten der Schule
URL:https://montessori-godesberg.de/termin/ogs-elternabend-2/
CATEGORIES:Termine
END:VEVENT
BEGIN:VEVENT
DTSTART;TZID=Europe/Berlin:20221026T110000
DTEND;TZID=Europe/Berlin:20221026T120000
DTSTAMP:20260423T055619
CREATED:20220817T165432Z
LAST-MODIFIED:20220817T170311Z
UID:4413-1666782000-1666785600@montessori-godesberg.de
SUMMARY:Lesefest Käpt'n Book
DESCRIPTION:Die Klassen nehmen an einer Lesung teil.
URL:https://montessori-godesberg.de/termin/lesefest-kaeptn-book/
CATEGORIES:Termine
END:VEVENT
BEGIN:VEVENT
DTSTART;TZID=Europe/Berlin:20221028T100000
DTEND;TZID=Europe/Berlin:20221028T120000
DTSTAMP:20260423T055619
CREATED:20220816T152101Z
LAST-MODIFIED:20221206T180634Z
UID:4346-1666951200-1666958400@montessori-godesberg.de
SUMMARY:Tag der Offenen Tür
DESCRIPTION:Informationsveranstaltung für interessierte Eltern und Kinder der Kindergärten
URL:https://montessori-godesberg.de/termin/tag-der-offenen-tuer/
END:VEVENT
BEGIN:VEVENT
DTSTART;VALUE=DATE:20221031
DTEND;VALUE=DATE:20221101
DTSTAMP:20260423T055620
CREATED:20220512T190900Z
LAST-MODIFIED:20220514T054421Z
UID:4068-1667174400-1667260799@montessori-godesberg.de
SUMMARY:Beweglicher Ferientag (unterrichtsfrei)
DESCRIPTION:
URL:https://montessori-godesberg.de/termin/beweglicher-ferientag-schulfrei/
CATEGORIES:Ferien
END:VEVENT
END:VCALENDAR