BEGIN:VCALENDAR
VERSION:2.0
PRODID:-//Paul-Klee-Schule – Montessorischule im Aufbau - ECPv6.15.20//NONSGML v1.0//EN
CALSCALE:GREGORIAN
METHOD:PUBLISH
X-ORIGINAL-URL:https://montessori-godesberg.de
X-WR-CALDESC:Veranstaltungen für Paul-Klee-Schule – Montessorischule im Aufbau
REFRESH-INTERVAL;VALUE=DURATION:PT1H
X-Robots-Tag:noindex
X-PUBLISHED-TTL:PT1H
BEGIN:VTIMEZONE
TZID:Europe/Berlin
BEGIN:DAYLIGHT
TZOFFSETFROM:+0100
TZOFFSETTO:+0200
TZNAME:CEST
DTSTART:20210328T010000
END:DAYLIGHT
BEGIN:STANDARD
TZOFFSETFROM:+0200
TZOFFSETTO:+0100
TZNAME:CET
DTSTART:20211031T010000
END:STANDARD
BEGIN:DAYLIGHT
TZOFFSETFROM:+0100
TZOFFSETTO:+0200
TZNAME:CEST
DTSTART:20220327T010000
END:DAYLIGHT
BEGIN:STANDARD
TZOFFSETFROM:+0200
TZOFFSETTO:+0100
TZNAME:CET
DTSTART:20221030T010000
END:STANDARD
BEGIN:DAYLIGHT
TZOFFSETFROM:+0100
TZOFFSETTO:+0200
TZNAME:CEST
DTSTART:20230326T010000
END:DAYLIGHT
BEGIN:STANDARD
TZOFFSETFROM:+0200
TZOFFSETTO:+0100
TZNAME:CET
DTSTART:20231029T010000
END:STANDARD
BEGIN:DAYLIGHT
TZOFFSETFROM:+0100
TZOFFSETTO:+0200
TZNAME:CEST
DTSTART:20240331T010000
END:DAYLIGHT
BEGIN:STANDARD
TZOFFSETFROM:+0200
TZOFFSETTO:+0100
TZNAME:CET
DTSTART:20241027T010000
END:STANDARD
END:VTIMEZONE
BEGIN:VEVENT
DTSTART;TZID=Europe/Berlin:20221206T080000
DTEND;TZID=Europe/Berlin:20221206T100000
DTSTAMP:20260423T025230
CREATED:20220816T152634Z
LAST-MODIFIED:20221206T180318Z
UID:4352-1670313600-1670320800@montessori-godesberg.de
SUMMARY:Nikolausfeier
DESCRIPTION:in den Klassen
URL:https://montessori-godesberg.de/termin/nikolausfeier/
END:VEVENT
BEGIN:VEVENT
DTSTART;TZID=Europe/Berlin:20221208T080000
DTEND;TZID=Europe/Berlin:20221208T160000
DTSTAMP:20260423T025230
CREATED:20220816T152741Z
LAST-MODIFIED:20221206T180234Z
UID:4355-1670486400-1670515200@montessori-godesberg.de
SUMMARY:Pädagogischer Ganztag in Schule und OGS
DESCRIPTION:Unterricht entfällt \nOGS geschlossen
URL:https://montessori-godesberg.de/termin/paedagogischer-ganztag/
END:VEVENT
BEGIN:VEVENT
DTSTART;TZID=Europe/Berlin:20221221T100000
DTEND;TZID=Europe/Berlin:20221221T110000
DTSTAMP:20260423T025230
CREATED:20220816T152915Z
LAST-MODIFIED:20221206T180107Z
UID:4357-1671616800-1671620400@montessori-godesberg.de
SUMMARY:Weihnachtsgottesdienst
DESCRIPTION:10:00 Uhr ökumenischer Weihnachtsgottesdienst für alle Klassen
URL:https://montessori-godesberg.de/termin/weihnachtsfeier-weihnachtsgottesdienst/
END:VEVENT
BEGIN:VEVENT
DTSTART;TZID=Europe/Berlin:20221222T080000
DTEND;TZID=Europe/Berlin:20221222T114500
DTSTAMP:20260423T025230
CREATED:20221206T171728Z
LAST-MODIFIED:20221206T175910Z
UID:4714-1671696000-1671709500@montessori-godesberg.de
SUMMARY:letzter Schultag vor den Weihnachtsferien
DESCRIPTION:Schulschluss um 11:45 Uhr
URL:https://montessori-godesberg.de/termin/letzter-schultag-vor-den-weihnachtsferien/
END:VEVENT
BEGIN:VEVENT
DTSTART;VALUE=DATE:20221223
DTEND;VALUE=DATE:20230107
DTSTAMP:20260423T025230
CREATED:20220626T080657Z
LAST-MODIFIED:20220626T083411Z
UID:4261-1671753600-1673049599@montessori-godesberg.de
SUMMARY:Weihnachtsferien
DESCRIPTION:
URL:https://montessori-godesberg.de/termin/weihnachtsferien/
CATEGORIES:Ferien
END:VEVENT
END:VCALENDAR