BEGIN:VCALENDAR
VERSION:2.0
PRODID:-//Paul-Klee-Schule – Montessorischule im Aufbau - ECPv6.15.20//NONSGML v1.0//EN
CALSCALE:GREGORIAN
METHOD:PUBLISH
X-WR-CALNAME:Paul-Klee-Schule – Montessorischule im Aufbau
X-ORIGINAL-URL:https://montessori-godesberg.de
X-WR-CALDESC:Veranstaltungen für Paul-Klee-Schule – Montessorischule im Aufbau
REFRESH-INTERVAL;VALUE=DURATION:PT1H
X-Robots-Tag:noindex
X-PUBLISHED-TTL:PT1H
BEGIN:VTIMEZONE
TZID:Europe/Berlin
BEGIN:DAYLIGHT
TZOFFSETFROM:+0100
TZOFFSETTO:+0200
TZNAME:CEST
DTSTART:20220327T010000
END:DAYLIGHT
BEGIN:STANDARD
TZOFFSETFROM:+0200
TZOFFSETTO:+0100
TZNAME:CET
DTSTART:20221030T010000
END:STANDARD
BEGIN:DAYLIGHT
TZOFFSETFROM:+0100
TZOFFSETTO:+0200
TZNAME:CEST
DTSTART:20230326T010000
END:DAYLIGHT
BEGIN:STANDARD
TZOFFSETFROM:+0200
TZOFFSETTO:+0100
TZNAME:CET
DTSTART:20231029T010000
END:STANDARD
BEGIN:DAYLIGHT
TZOFFSETFROM:+0100
TZOFFSETTO:+0200
TZNAME:CEST
DTSTART:20240331T010000
END:DAYLIGHT
BEGIN:STANDARD
TZOFFSETFROM:+0200
TZOFFSETTO:+0100
TZNAME:CET
DTSTART:20241027T010000
END:STANDARD
END:VTIMEZONE
BEGIN:VEVENT
DTSTART;VALUE=DATE:20230306
DTEND;VALUE=DATE:20230311
DTSTAMP:20260422T215800
CREATED:20220816T153555Z
LAST-MODIFIED:20220816T155852Z
UID:4366-1678060800-1678492799@montessori-godesberg.de
SUMMARY:Elterngespräche für die Klassen 2 und 3
DESCRIPTION:
URL:https://montessori-godesberg.de/termin/elterngespraeche-fuer-die-klassen-2-und-3/
CATEGORIES:Termine
END:VEVENT
BEGIN:VEVENT
DTSTART;VALUE=DATE:20230308
DTEND;VALUE=DATE:20230311
DTSTAMP:20260422T215800
CREATED:20230316T112024Z
LAST-MODIFIED:20230316T112024Z
UID:4871-1678233600-1678492799@montessori-godesberg.de
SUMMARY:Klassenfahrt der Tiger und Eichhörnchen
DESCRIPTION:
URL:https://montessori-godesberg.de/termin/klassenfahrt-der-tiger-und-eichhoernchen/
CATEGORIES:Termine
END:VEVENT
BEGIN:VEVENT
DTSTART;VALUE=DATE:20230308
DTEND;VALUE=DATE:20230311
DTSTAMP:20260422T215800
CREATED:20230316T112104Z
LAST-MODIFIED:20230316T112308Z
UID:4873-1678233600-1678492799@montessori-godesberg.de
SUMMARY:Klassenfahrt der Igel und Raben
DESCRIPTION:
URL:https://montessori-godesberg.de/termin/klassenfahrt-der-igel-und-raben/
CATEGORIES:Termine
END:VEVENT
BEGIN:VEVENT
DTSTART;VALUE=DATE:20230313
DTEND;VALUE=DATE:20230316
DTSTAMP:20260422T215800
CREATED:20220816T155958Z
LAST-MODIFIED:20220816T155958Z
UID:4393-1678665600-1678924799@montessori-godesberg.de
SUMMARY:Elterngespräche für die Klassen 2 und 3
DESCRIPTION:
URL:https://montessori-godesberg.de/termin/elterngespraeche-fuer-die-klassen-2-und-3-2/
CATEGORIES:Termine
END:VEVENT
BEGIN:VEVENT
DTSTART;TZID=Europe/Berlin:20230316T080000
DTEND;TZID=Europe/Berlin:20230316T160000
DTSTAMP:20260422T215800
CREATED:20220816T153450Z
LAST-MODIFIED:20221206T175708Z
UID:4364-1678953600-1678982400@montessori-godesberg.de
SUMMARY:Pädagogischer Ganztag
DESCRIPTION:Unterricht entfällt
URL:https://montessori-godesberg.de/termin/paedagogischer-ganztag-2/
END:VEVENT
BEGIN:VEVENT
DTSTART;VALUE=DATE:20230322
DTEND;VALUE=DATE:20230325
DTSTAMP:20260422T215800
CREATED:20220816T154128Z
LAST-MODIFIED:20230316T112209Z
UID:4371-1679443200-1679702399@montessori-godesberg.de
SUMMARY:Klassenfahrt der Bären und Kängurus
DESCRIPTION:
URL:https://montessori-godesberg.de/termin/klassenfahrt-der-baeren-und-kaengurus/
CATEGORIES:Termine
END:VEVENT
BEGIN:VEVENT
DTSTART;VALUE=DATE:20230322
DTEND;VALUE=DATE:20230422
DTSTAMP:20260422T215800
CREATED:20230316T111229Z
LAST-MODIFIED:20230316T111746Z
UID:4867-1679443200-1682121599@montessori-godesberg.de
SUMMARY:Ramadan
DESCRIPTION:Fastenmonat der Muslime
URL:https://montessori-godesberg.de/termin/ramadan-beginnt/
CATEGORIES:Termine
END:VEVENT
END:VCALENDAR