BEGIN:VCALENDAR
VERSION:2.0
PRODID:-//Paul-Klee-Schule – Montessorischule im Aufbau - ECPv6.15.20//NONSGML v1.0//EN
CALSCALE:GREGORIAN
METHOD:PUBLISH
X-ORIGINAL-URL:https://montessori-godesberg.de
X-WR-CALDESC:Veranstaltungen für Paul-Klee-Schule – Montessorischule im Aufbau
REFRESH-INTERVAL;VALUE=DURATION:PT1H
X-Robots-Tag:noindex
X-PUBLISHED-TTL:PT1H
BEGIN:VTIMEZONE
TZID:Europe/Berlin
BEGIN:DAYLIGHT
TZOFFSETFROM:+0100
TZOFFSETTO:+0200
TZNAME:CEST
DTSTART:20220327T010000
END:DAYLIGHT
BEGIN:STANDARD
TZOFFSETFROM:+0200
TZOFFSETTO:+0100
TZNAME:CET
DTSTART:20221030T010000
END:STANDARD
BEGIN:DAYLIGHT
TZOFFSETFROM:+0100
TZOFFSETTO:+0200
TZNAME:CEST
DTSTART:20230326T010000
END:DAYLIGHT
BEGIN:STANDARD
TZOFFSETFROM:+0200
TZOFFSETTO:+0100
TZNAME:CET
DTSTART:20231029T010000
END:STANDARD
BEGIN:DAYLIGHT
TZOFFSETFROM:+0100
TZOFFSETTO:+0200
TZNAME:CEST
DTSTART:20240331T010000
END:DAYLIGHT
BEGIN:STANDARD
TZOFFSETFROM:+0200
TZOFFSETTO:+0100
TZNAME:CET
DTSTART:20241027T010000
END:STANDARD
END:VTIMEZONE
BEGIN:VEVENT
DTSTART;VALUE=DATE:20230608
DTEND;VALUE=DATE:20230609
DTSTAMP:20260422T175706
CREATED:20220626T081315Z
LAST-MODIFIED:20220626T082948Z
UID:4274-1686182400-1686268799@montessori-godesberg.de
SUMMARY:Fronleichnam
DESCRIPTION:(unterrichtsfrei)
URL:https://montessori-godesberg.de/termin/fronleichnam/
CATEGORIES:Ferien
END:VEVENT
BEGIN:VEVENT
DTSTART;TZID=Europe/Berlin:20230609T080000
DTEND;TZID=Europe/Berlin:20230609T133000
DTSTAMP:20260422T175706
CREATED:20230524T132639Z
LAST-MODIFIED:20230524T132639Z
UID:4972-1686297600-1686317400@montessori-godesberg.de
SUMMARY:Fahrradtraining für die Viertklässler
DESCRIPTION:
URL:https://montessori-godesberg.de/termin/fahrradtraining-fuer-die-viertklaessler/
CATEGORIES:Termine
END:VEVENT
BEGIN:VEVENT
DTSTART;TZID=Europe/Berlin:20230609T150000
DTEND;TZID=Europe/Berlin:20230609T170000
DTSTAMP:20260422T175706
CREATED:20230517T151545Z
LAST-MODIFIED:20230517T151545Z
UID:4943-1686322800-1686330000@montessori-godesberg.de
SUMMARY:OGS Abschied der Viertklässler
DESCRIPTION:Die OGS verabschiedet die Viertklässler.
URL:https://montessori-godesberg.de/termin/ogs-abschied-der-viertklaessler/
CATEGORIES:Termine
END:VEVENT
BEGIN:VEVENT
DTSTART;TZID=Europe/Berlin:20230615T080000
DTEND;TZID=Europe/Berlin:20230621T120000
DTSTAMP:20260422T175706
CREATED:20220816T154715Z
LAST-MODIFIED:20230517T151003Z
UID:4383-1686816000-1687348800@montessori-godesberg.de
SUMMARY:Ausgabe der Zeugnisse
DESCRIPTION:
URL:https://montessori-godesberg.de/termin/ausgabe-der-zeugnisse/
CATEGORIES:Termine
END:VEVENT
BEGIN:VEVENT
DTSTART;TZID=Europe/Berlin:20230619T193000
DTEND;TZID=Europe/Berlin:20230619T193000
DTSTAMP:20260422T175706
CREATED:20230517T151717Z
LAST-MODIFIED:20230517T151717Z
UID:4945-1687203000-1687203000@montessori-godesberg.de
SUMMARY:OGS Elternabend für die Eltern der zukünftigen Erstklässler
DESCRIPTION:
URL:https://montessori-godesberg.de/termin/ogs-elternabend-fuer-die-eltern-der-zukuenftigen-erstklaessler/
CATEGORIES:Termine
END:VEVENT
BEGIN:VEVENT
DTSTART;TZID=Europe/Berlin:20230620T080000
DTEND;TZID=Europe/Berlin:20230620T120000
DTSTAMP:20260422T175706
CREATED:20220816T154831Z
LAST-MODIFIED:20230517T151422Z
UID:4385-1687248000-1687262400@montessori-godesberg.de
SUMMARY:Verabschiedung der Viertklässler
DESCRIPTION:Ökumenischer Gottesdienst um 9:00 Uhr
URL:https://montessori-godesberg.de/termin/verabschiedung-der-viertklaessler/
END:VEVENT
BEGIN:VEVENT
DTSTART;TZID=Europe/Berlin:20230621T080000
DTEND;TZID=Europe/Berlin:20230621T114500
DTSTAMP:20260422T175706
CREATED:20220816T154945Z
LAST-MODIFIED:20221206T175352Z
UID:4387-1687334400-1687347900@montessori-godesberg.de
SUMMARY:Letzter Schultag
DESCRIPTION:Unterrichtsschluss für alle Klassen 11.45 Uhr
URL:https://montessori-godesberg.de/termin/letzter-schultag/
END:VEVENT
BEGIN:VEVENT
DTSTART;VALUE=DATE:20230622
DTEND;VALUE=DATE:20230805
DTSTAMP:20260422T175706
CREATED:20220626T081216Z
LAST-MODIFIED:20221206T174117Z
UID:4272-1687392000-1691193599@montessori-godesberg.de
SUMMARY:Sommerferien
DESCRIPTION:22.06.-30.06 OGS-Ferien: keine OGS
URL:https://montessori-godesberg.de/termin/sommerferien-2/
CATEGORIES:Ferien
END:VEVENT
END:VCALENDAR