BEGIN:VCALENDAR
VERSION:2.0
PRODID:-//Paul-Klee-Schule – Montessorischule im Aufbau - ECPv6.15.20//NONSGML v1.0//EN
CALSCALE:GREGORIAN
METHOD:PUBLISH
X-ORIGINAL-URL:https://montessori-godesberg.de
X-WR-CALDESC:Veranstaltungen für Paul-Klee-Schule – Montessorischule im Aufbau
REFRESH-INTERVAL;VALUE=DURATION:PT1H
X-Robots-Tag:noindex
X-PUBLISHED-TTL:PT1H
BEGIN:VTIMEZONE
TZID:Europe/Berlin
BEGIN:DAYLIGHT
TZOFFSETFROM:+0100
TZOFFSETTO:+0200
TZNAME:CEST
DTSTART:20220327T010000
END:DAYLIGHT
BEGIN:STANDARD
TZOFFSETFROM:+0200
TZOFFSETTO:+0100
TZNAME:CET
DTSTART:20221030T010000
END:STANDARD
BEGIN:DAYLIGHT
TZOFFSETFROM:+0100
TZOFFSETTO:+0200
TZNAME:CEST
DTSTART:20230326T010000
END:DAYLIGHT
BEGIN:STANDARD
TZOFFSETFROM:+0200
TZOFFSETTO:+0100
TZNAME:CET
DTSTART:20231029T010000
END:STANDARD
BEGIN:DAYLIGHT
TZOFFSETFROM:+0100
TZOFFSETTO:+0200
TZNAME:CEST
DTSTART:20240331T010000
END:DAYLIGHT
BEGIN:STANDARD
TZOFFSETFROM:+0200
TZOFFSETTO:+0100
TZNAME:CET
DTSTART:20241027T010000
END:STANDARD
END:VTIMEZONE
BEGIN:VEVENT
DTSTART;VALUE=DATE:20230622
DTEND;VALUE=DATE:20230805
DTSTAMP:20260422T150657
CREATED:20220626T081216Z
LAST-MODIFIED:20221206T174117Z
UID:4272-1687392000-1691193599@montessori-godesberg.de
SUMMARY:Sommerferien
DESCRIPTION:22.06.-30.06 OGS-Ferien: keine OGS
URL:https://montessori-godesberg.de/termin/sommerferien-2/
CATEGORIES:Ferien
END:VEVENT
BEGIN:VEVENT
DTSTART;TZID=Europe/Berlin:20230731T000000
DTEND;TZID=Europe/Berlin:20230804T000000
DTSTAMP:20260422T150657
CREATED:20221206T174421Z
LAST-MODIFIED:20221206T174421Z
UID:4738-1690761600-1691107200@montessori-godesberg.de
SUMMARY:Kinderbibelwoche der Erlöserkirchengemeinde
DESCRIPTION:
URL:https://montessori-godesberg.de/termin/kinderbibelwoche-der-erloeserkirchengemeinde-2/
CATEGORIES:Termine
END:VEVENT
BEGIN:VEVENT
DTSTART;TZID=Europe/Berlin:20230804T150000
DTEND;TZID=Europe/Berlin:20230804T170000
DTSTAMP:20260422T150657
CREATED:20230517T150854Z
LAST-MODIFIED:20230517T152054Z
UID:4939-1691161200-1691168400@montessori-godesberg.de
SUMMARY:Elterncafé für Eltern der neuen Erstklässler*innen
DESCRIPTION:Zwangloses Kennlern-Treffen der Eltern in der Mensa der OGS
URL:https://montessori-godesberg.de/termin/elterncafe-fuer-unsere-eltern-der-neuen-erstklaesslerinnen/
CATEGORIES:Termine
END:VEVENT
BEGIN:VEVENT
DTSTART;TZID=Europe/Berlin:20230807T080000
DTEND;TZID=Europe/Berlin:20230807T114500
DTSTAMP:20260422T150657
CREATED:20220816T155126Z
LAST-MODIFIED:20221206T175020Z
UID:4389-1691395200-1691408700@montessori-godesberg.de
SUMMARY:Erster Schultag
DESCRIPTION:für die Kinder der Klassen 2 bis 4 \nUnterrichtsschluss für alle Klassen 11.45 Uhr
URL:https://montessori-godesberg.de/termin/erster-schultag/
END:VEVENT
BEGIN:VEVENT
DTSTART;TZID=Europe/Berlin:20230807T080000
DTEND;TZID=Europe/Berlin:20230825T120000
DTSTAMP:20260422T150657
CREATED:20230703T153820Z
LAST-MODIFIED:20230703T163758Z
UID:4994-1691395200-1692964800@montessori-godesberg.de
SUMMARY:Diagnostik der Erstklässler*innen
DESCRIPTION:besondere Beobachtung der Erstklässler*innen in der Freiarbeit
URL:https://montessori-godesberg.de/termin/diagnostik-der-erstklaessler-4/
CATEGORIES:Termine
END:VEVENT
BEGIN:VEVENT
DTSTART;TZID=Europe/Berlin:20230808T100000
DTEND;TZID=Europe/Berlin:20230808T124500
DTSTAMP:20260422T150657
CREATED:20220816T155301Z
LAST-MODIFIED:20230804T054050Z
UID:4391-1691488800-1691498700@montessori-godesberg.de
SUMMARY:Einschulungsfeier der neuen Erstklässler*innen
DESCRIPTION:Ökumenischer Gottesdienst \nEinschulungsfeier in der Schule \nUnterrichtsschluss für alle Klassen 12.45 Uhr
URL:https://montessori-godesberg.de/termin/einschulungsfeier-der-neuen-erstklaessler/
END:VEVENT
BEGIN:VEVENT
DTSTART;TZID=Europe/Berlin:20230809T080000
DTEND;TZID=Europe/Berlin:20230809T114500
DTSTAMP:20260422T150657
CREATED:20230805T081426Z
LAST-MODIFIED:20230805T081426Z
UID:5134-1691568000-1691581500@montessori-godesberg.de
SUMMARY:Ausgabe des Stundenplans
DESCRIPTION:Unterrichtsschluss 11:45 Uhr
URL:https://montessori-godesberg.de/termin/ausgabe-des-stundenplans/
CATEGORIES:Termine
END:VEVENT
BEGIN:VEVENT
DTSTART;TZID=Europe/Berlin:20230811T080000
DTEND;TZID=Europe/Berlin:20230811T120000
DTSTAMP:20260422T150657
CREATED:20230703T153206Z
LAST-MODIFIED:20230703T163859Z
UID:4991-1691740800-1691755200@montessori-godesberg.de
SUMMARY:Schulfotograf
DESCRIPTION:Die Erstklässler*innen dürfen gerne ihre Schultüte mitbringen.
URL:https://montessori-godesberg.de/termin/schulfotograf-2/
CATEGORIES:Termine
END:VEVENT
BEGIN:VEVENT
DTSTART;TZID=Europe/Berlin:20230821T000000
DTEND;TZID=Europe/Berlin:20230825T000000
DTSTAMP:20260422T150657
CREATED:20230703T154534Z
LAST-MODIFIED:20230703T154534Z
UID:4998-1692576000-1692921600@montessori-godesberg.de
SUMMARY:Klassenpflegschaftssitzungen
DESCRIPTION:In dieser Woche finden in den einzelnen Klassen die Klassenpflegschaftssitzungen statt.
URL:https://montessori-godesberg.de/termin/klassenpflegschaftssitzungen/
CATEGORIES:Termine
END:VEVENT
BEGIN:VEVENT
DTSTART;TZID=Europe/Berlin:20230831T000000
DTEND;TZID=Europe/Berlin:20230831T000000
DTSTAMP:20260422T150657
CREATED:20230805T081145Z
LAST-MODIFIED:20230805T081145Z
UID:5132-1693440000-1693440000@montessori-godesberg.de
SUMMARY:OGS Elternabend
DESCRIPTION:
URL:https://montessori-godesberg.de/termin/ogs-elternabend-3/
CATEGORIES:Termine
END:VEVENT
END:VCALENDAR