BEGIN:VCALENDAR
VERSION:2.0
PRODID:-//Paul-Klee-Schule – Montessorischule im Aufbau - ECPv6.15.20//NONSGML v1.0//EN
CALSCALE:GREGORIAN
METHOD:PUBLISH
X-WR-CALNAME:Paul-Klee-Schule – Montessorischule im Aufbau
X-ORIGINAL-URL:https://montessori-godesberg.de
X-WR-CALDESC:Veranstaltungen für Paul-Klee-Schule – Montessorischule im Aufbau
REFRESH-INTERVAL;VALUE=DURATION:PT1H
X-Robots-Tag:noindex
X-PUBLISHED-TTL:PT1H
BEGIN:VTIMEZONE
TZID:Europe/Berlin
BEGIN:DAYLIGHT
TZOFFSETFROM:+0100
TZOFFSETTO:+0200
TZNAME:CEST
DTSTART:20220327T010000
END:DAYLIGHT
BEGIN:STANDARD
TZOFFSETFROM:+0200
TZOFFSETTO:+0100
TZNAME:CET
DTSTART:20221030T010000
END:STANDARD
BEGIN:DAYLIGHT
TZOFFSETFROM:+0100
TZOFFSETTO:+0200
TZNAME:CEST
DTSTART:20230326T010000
END:DAYLIGHT
BEGIN:STANDARD
TZOFFSETFROM:+0200
TZOFFSETTO:+0100
TZNAME:CET
DTSTART:20231029T010000
END:STANDARD
BEGIN:DAYLIGHT
TZOFFSETFROM:+0100
TZOFFSETTO:+0200
TZNAME:CEST
DTSTART:20240331T010000
END:DAYLIGHT
BEGIN:STANDARD
TZOFFSETFROM:+0200
TZOFFSETTO:+0100
TZNAME:CET
DTSTART:20241027T010000
END:STANDARD
BEGIN:DAYLIGHT
TZOFFSETFROM:+0100
TZOFFSETTO:+0200
TZNAME:CEST
DTSTART:20250330T010000
END:DAYLIGHT
BEGIN:STANDARD
TZOFFSETFROM:+0200
TZOFFSETTO:+0100
TZNAME:CET
DTSTART:20251026T010000
END:STANDARD
END:VTIMEZONE
BEGIN:VEVENT
DTSTART;VALUE=DATE:20231206
DTEND;VALUE=DATE:20231207
DTSTAMP:20260420T125135
CREATED:20230703T155737Z
LAST-MODIFIED:20230703T155925Z
UID:5013-1701820800-1701907199@montessori-godesberg.de
SUMMARY:Nikolaus
DESCRIPTION:In den Klassen wird Nikolaus gefeiert.
URL:https://montessori-godesberg.de/termin/nikolaus/
CATEGORIES:Termine
END:VEVENT
BEGIN:VEVENT
DTSTART;TZID=Europe/Berlin:20231208T080000
DTEND;TZID=Europe/Berlin:20231208T120000
DTSTAMP:20260420T125136
CREATED:20230930T080218Z
LAST-MODIFIED:20230930T080218Z
UID:5260-1702022400-1702036800@montessori-godesberg.de
SUMMARY:"Die große Nein-Tonne"
DESCRIPTION:Die Theaterpädagogische Werkstatt Osnabrück führt das Theaterstück „Die große Nein-Tonne“ für uns auf.
URL:https://montessori-godesberg.de/termin/die-grosse-nein-tonne/
CATEGORIES:Termine
END:VEVENT
BEGIN:VEVENT
DTSTART;TZID=Europe/Berlin:20231219T102000
DTEND;TZID=Europe/Berlin:20231219T113000
DTSTAMP:20260420T125136
CREATED:20230805T080214Z
LAST-MODIFIED:20231211T153536Z
UID:5126-1702981200-1702985400@montessori-godesberg.de
SUMMARY:ökumenischer Gottesdienst
DESCRIPTION:Ökumenischer Gottesdienst. Kinder\, die nicht mit in den Gottesdienst gehen\, werden in der Schule betreut.
URL:https://montessori-godesberg.de/termin/oekumenischer-gottesdienst-2/
CATEGORIES:Termine
END:VEVENT
BEGIN:VEVENT
DTSTART;TZID=Europe/Berlin:20231220T114500
DTEND;TZID=Europe/Berlin:20231220T114500
DTSTAMP:20260420T125136
CREATED:20230805T080036Z
LAST-MODIFIED:20230805T080036Z
UID:5124-1703072700-1703072700@montessori-godesberg.de
SUMMARY:letzter Schultag vor den Weihnachtsferien
DESCRIPTION:Schulschluss 11:45 Uhr
URL:https://montessori-godesberg.de/termin/letzter-schultag-vor-den-weihnachtsferien-2/
CATEGORIES:Termine
END:VEVENT
BEGIN:VEVENT
DTSTART;VALUE=DATE:20231221
DTEND;VALUE=DATE:20240106
DTSTAMP:20260420T125136
CREATED:20230703T160420Z
LAST-MODIFIED:20230703T160420Z
UID:5019-1703116800-1704499199@montessori-godesberg.de
SUMMARY:Weihnachtsferien
DESCRIPTION:
URL:https://montessori-godesberg.de/termin/weihnachtsferien-2/
CATEGORIES:Ferien
END:VEVENT
END:VCALENDAR